BEGIN:VCALENDAR
VERSION:2.0
PRODID:-//Earth Day Northwest 2020 - ECPv4.9.13//NONSGML v1.0//EN
CALSCALE:GREGORIAN
METHOD:PUBLISH
X-WR-CALNAME:Earth Day Northwest 2020
X-ORIGINAL-URL:https://earthdaynw2020.org
X-WR-CALDESC:Events for Earth Day Northwest 2020
BEGIN:VTIMEZONE
TZID:America/Los_Angeles
BEGIN:DAYLIGHT
TZOFFSETFROM:-0800
TZOFFSETTO:-0700
TZNAME:PDT
DTSTART:20190310T100000
END:DAYLIGHT
BEGIN:STANDARD
TZOFFSETFROM:-0700
TZOFFSETTO:-0800
TZNAME:PST
DTSTART:20191103T090000
END:STANDARD
END:VTIMEZONE
BEGIN:VEVENT
DTSTART;TZID=America/Los_Angeles:20190508T130000
DTEND;TZID=America/Los_Angeles:20190508T190000
DTSTAMP:20210605T141245
CREATED:20190411T175122Z
LAST-MODIFIED:20190415T214436Z
UID:435-1557320400-1557342000@earthdaynw2020.org
SUMMARY:The Nature Conservancy: GiveBIG Gratitude Team
DESCRIPTION:In 2018\, The Nature Conservancy participated in the GiveBIG campaign and received over 300 individual contributions to help us continue our work. We will be participating again in 2019 and we need your help to thank everyone that gives! These individuals care about the environment and our work and we believe they deserve to be thanked. \nWhat: Volunteers will help us make calls to thank people who give through GiveBIG campaign \nWhere: The Nature Conservancy Office in Belltown \nWhen: May 8th from 1:00pm-7:00pm and May 9th 10:00am-12:00pm. One hour shifts available. \nPlease register to volunteer below. Once you sign up\, you will receive a confirmation email. Snacks will be provided! \n
URL:https://earthdaynw2020.org/event/the-nature-conservancy-givebig-gratitude-team/
CATEGORIES:Community,Volunteer
END:VEVENT
END:VCALENDAR