BEGIN:VCALENDAR
VERSION:2.0
PRODID:-//Earth Day Northwest 2020 - ECPv4.9.13//NONSGML v1.0//EN
CALSCALE:GREGORIAN
METHOD:PUBLISH
X-WR-CALNAME:Earth Day Northwest 2020
X-ORIGINAL-URL:https://earthdaynw2020.org
X-WR-CALDESC:Events for Earth Day Northwest 2020
BEGIN:VTIMEZONE
TZID:America/Los_Angeles
BEGIN:DAYLIGHT
TZOFFSETFROM:-0800
TZOFFSETTO:-0700
TZNAME:PDT
DTSTART:20190310T100000
END:DAYLIGHT
BEGIN:STANDARD
TZOFFSETFROM:-0700
TZOFFSETTO:-0800
TZNAME:PST
DTSTART:20191103T090000
END:STANDARD
END:VTIMEZONE
BEGIN:VEVENT
DTSTART;TZID=America/Los_Angeles:20190428T100000
DTEND;TZID=America/Los_Angeles:20190428T140000
DTSTAMP:20210605T221735
CREATED:20190411T170058Z
LAST-MODIFIED:20190415T214334Z
UID:423-1556445600-1556460000@earthdaynw2020.org
SUMMARY:Seattle Works: Spring Restoration Day in Volunteer Park
DESCRIPTION:Come garden with us at Volunteer Park Trust’s Spring Restoration Day on Sunday\, April 28. \nThis annual clean up event is a major community effort to make Seattle’s Volunteer Park more beautiful for everyone. \nA great activity for kids and families\, come join friends and neighbors in weeding\, cleaning garden beds\,removing invasive plants\, and mulching for a beautiful summer No gardening experience necessary. Gloves and tools will be provided. \nStay for the whole event or as long as you want. You will be helping restoration efforts in Volunteer Park. \nEnjoy free donuts from Mighty O Donuts and free coffee provided by Aegis Living! \n  \n
URL:https://earthdaynw2020.org/event/seattle-works-spring-restoration-day-in-volunteer-park/
LOCATION:Seattle\, WA\, Volunteer Park
CATEGORIES:Community,Volunteer
END:VEVENT
END:VCALENDAR