BEGIN:VCALENDAR
VERSION:2.0
PRODID:-//Earth Day Northwest 2020 - ECPv4.9.13//NONSGML v1.0//EN
CALSCALE:GREGORIAN
METHOD:PUBLISH
X-WR-CALNAME:Earth Day Northwest 2020
X-ORIGINAL-URL:https://earthdaynw2020.org
X-WR-CALDESC:Events for Earth Day Northwest 2020
BEGIN:VTIMEZONE
TZID:America/Los_Angeles
BEGIN:DAYLIGHT
TZOFFSETFROM:-0800
TZOFFSETTO:-0700
TZNAME:PDT
DTSTART:20190310T100000
END:DAYLIGHT
BEGIN:STANDARD
TZOFFSETFROM:-0700
TZOFFSETTO:-0800
TZNAME:PST
DTSTART:20191103T090000
END:STANDARD
END:VTIMEZONE
BEGIN:VEVENT
DTSTART;TZID=America/Los_Angeles:20190422T100000
DTEND;TZID=America/Los_Angeles:20190422T130000
DTSTAMP:20210605T221716
CREATED:20190411T165437Z
LAST-MODIFIED:20190415T214406Z
UID:419-1555927200-1555938000@earthdaynw2020.org
SUMMARY:Seattle Works: Earth Day at Paradise
DESCRIPTION:We are going to get the farm ready for spring by honoring Earth Day! Come and help us with planting spring crops and readying the gardens!  \n\n\n\nMulching\, planting\, working with aquaponic systems\, feeding animals\, checking on wildlife cameras\,  creating new trails\, building important fences to keep wildlife out and livestock in and more. \n\n\n\n\n\n\n \n\n\n\n\n\n
URL:https://earthdaynw2020.org/event/seattle-works-earth-day-at-paradise/
LOCATION:Woodinville\, WA 98077
CATEGORIES:Community,Volunteer
END:VEVENT
BEGIN:VEVENT
DTSTART;TZID=America/Los_Angeles:20190422T103000
DTEND;TZID=America/Los_Angeles:20190422T133000
DTSTAMP:20210605T221716
CREATED:20190411T165909Z
LAST-MODIFIED:20190415T214400Z
UID:422-1555929000-1555939800@earthdaynw2020.org
SUMMARY:Seattle Works: Earth Day Cleanup of Magnolia Pocket Farm Site
DESCRIPTION:\n\n\nFarmer Frog is getting ready to create a pocket community spaces in Seattle Magnolia. We are holding an event for Earth Month. \n\n\n\n\n\n\n \n\n\n\n\n\n
URL:https://earthdaynw2020.org/event/seattle-works-earth-day-cleanup-of-magnolia-pocket-farm-site/
CATEGORIES:Community,Volunteer
END:VEVENT
END:VCALENDAR