BEGIN:VCALENDAR
VERSION:2.0
PRODID:-//Earth Day Northwest 2020 - ECPv4.9.13//NONSGML v1.0//EN
CALSCALE:GREGORIAN
METHOD:PUBLISH
X-WR-CALNAME:Earth Day Northwest 2020
X-ORIGINAL-URL:https://earthdaynw2020.org
X-WR-CALDESC:Events for Earth Day Northwest 2020
BEGIN:VTIMEZONE
TZID:America/Los_Angeles
BEGIN:DAYLIGHT
TZOFFSETFROM:-0800
TZOFFSETTO:-0700
TZNAME:PDT
DTSTART:20190310T100000
END:DAYLIGHT
BEGIN:STANDARD
TZOFFSETFROM:-0700
TZOFFSETTO:-0800
TZNAME:PST
DTSTART:20191103T090000
END:STANDARD
END:VTIMEZONE
BEGIN:VEVENT
DTSTART;TZID=America/Los_Angeles:20190518T093000
DTEND;TZID=America/Los_Angeles:20190518T180000
DTSTAMP:20210605T141352
CREATED:20190429T182935Z
LAST-MODIFIED:20190429T182935Z
UID:762-1558171800-1558202400@earthdaynw2020.org
SUMMARY:Woodland Park Zoo\, Zoo For All: Celebrating Our Cultures
DESCRIPTION:Celebrating Our Cultures is part of Zoo for All\, a series of events aiming to deepen connections in communities that are often underserved. Celebrating Our Cultures is a day to celebrate diverse cultures with special programming and entertainment. Partners include El Centro de la Raza\, Chief Seattle Club and others. Stay tuned for exciting activities and programming. \n
URL:https://earthdaynw2020.org/event/woodland-park-zoo-zoo-for-all-celebrating-our-cultures/
LOCATION:Woodland Park Zoo
CATEGORIES:Community,Education,Family
END:VEVENT
END:VCALENDAR