BEGIN:VCALENDAR
VERSION:2.0
PRODID:-//Earth Day Northwest 2020 - ECPv4.9.13//NONSGML v1.0//EN
CALSCALE:GREGORIAN
METHOD:PUBLISH
X-WR-CALNAME:Earth Day Northwest 2020
X-ORIGINAL-URL:https://earthdaynw2020.org
X-WR-CALDESC:Events for Earth Day Northwest 2020
BEGIN:VTIMEZONE
TZID:America/Los_Angeles
BEGIN:DAYLIGHT
TZOFFSETFROM:-0800
TZOFFSETTO:-0700
TZNAME:PDT
DTSTART:20190310T100000
END:DAYLIGHT
BEGIN:STANDARD
TZOFFSETFROM:-0700
TZOFFSETTO:-0800
TZNAME:PST
DTSTART:20191103T090000
END:STANDARD
END:VTIMEZONE
BEGIN:VEVENT
DTSTART;TZID=America/Los_Angeles:20190425T173000
DTEND;TZID=America/Los_Angeles:20190425T183000
DTSTAMP:20210605T221347
CREATED:20190411T174742Z
LAST-MODIFIED:20190415T214354Z
UID:432-1556213400-1556217000@earthdaynw2020.org
SUMMARY:The Nature Conservancy: Earth Day Volunteer Orientation
DESCRIPTION:This Earth Day\, commit to making a difference – attend this volunteer orientation! Learn more about The Nature Conservancy’s work\, how volunteers support our mission\, and what you can do for conservation. \n
URL:https://earthdaynw2020.org/event/the-nature-conservancy-earth-day-volunteer-orientation/
CATEGORIES:Community,Volunteer
END:VEVENT
END:VCALENDAR