BEGIN:VCALENDAR
VERSION:2.0
PRODID:-//Earth Day Northwest 2020 - ECPv4.9.13//NONSGML v1.0//EN
CALSCALE:GREGORIAN
METHOD:PUBLISH
X-WR-CALNAME:Earth Day Northwest 2020
X-ORIGINAL-URL:https://earthdaynw2020.org
X-WR-CALDESC:Events for Earth Day Northwest 2020
BEGIN:VTIMEZONE
TZID:America/Los_Angeles
BEGIN:DAYLIGHT
TZOFFSETFROM:-0800
TZOFFSETTO:-0700
TZNAME:PDT
DTSTART:20200308T100000
END:DAYLIGHT
BEGIN:STANDARD
TZOFFSETFROM:-0700
TZOFFSETTO:-0800
TZNAME:PST
DTSTART:20201101T090000
END:STANDARD
END:VTIMEZONE
BEGIN:VEVENT
DTSTART;TZID=America/Los_Angeles:20200307T110000
DTEND;TZID=America/Los_Angeles:20200307T140000
DTSTAMP:20210524T231941
CREATED:20200214T153603Z
LAST-MODIFIED:20200214T153603Z
UID:1736-1583578800-1583589600@earthdaynw2020.org
SUMMARY:Climate Change Arts Festival
DESCRIPTION:Join Seattle Repertory Theatre and other local arts organizations for an afternoon of performance\, discussion\, and interactive activities in the Seattle Japanese Garden\, at Washington Park Arboretum. \nThe multi-disciplinary performances will offer a different perspective on the climate crisis\, while interactive\, discussion-based activities for adults and children will stimulate in-depth conversation on this crucial topic. Leave with the inspiration and tools to take action. All ages welcome. \nThroughout the festival we will hold informal community readings of the following short plays: \n“It Starts With Me\,” by Chantal Bilodeau\n“APPEALING\,” by Paula Cizmar\n“The Story of the Bountiful Window and the Last Rope\,” by Vinicius Jatobá\n“Nibi (Water) Protectors\,” by Corey Payette\n“Bigger Love by Peterson\,” Toscano \nThe festival is included with admission to the Japanese Garden. As part of the Garden’s Family Saturday program\, admission is free for children 12 & under\, from 10 a.m. to 2 p.m. \n
URL:https://earthdaynw2020.org/event/climate-change-arts-festival/
LOCATION:Seattle Japanese Garden\, 1075 Lake Washington Blvd E\, Seattle\, 98112\, United States
CATEGORIES:Family
ATTACH;FMTTYPE=image/jpeg:https://earthdaynw2020.org/wp-content/uploads/2020/02/climate-change-arts-image-ND.jpg
ORGANIZER;CN="Arboretum%20Foundation":MAILTO:info@arboretumfoundation.org
END:VEVENT
END:VCALENDAR